Workbook
Name OLE_LINK1: 'Anexo 12'!$D$13

Sheet Resumen
B1: RESUMEN DE ANEXOS
D2: Presupuesto
B3: Oficina | C3: Anexo | D3: Total S/.
B4: Alcaldía | C4: 1 | D4: ='Anexo 01'!$P$7 -> 60000
B5: Órgano de Control Institucional | C5: 2 | D5: ='Anexo 02'!$P$7 -> 2400
B6: Procuraduría Pública Municipal | C6: 3 | D6: ='Anexo 03'!$P$7 -> 3600
B7: Unidad de Imagen Institucional | C7: 4 | D7: ='Anexo 04'!$P$7 -> 59200
B8: Secretaria General | C8: 5 | D8: ='Anexo 05'!$P$7 -> 18000
B9: Secretaria General - Sala de Regidores | C9: 5A | D9: ='Anexo 05A'!$P$7 -> 6000
B10: Unidad de Trámite Documentario y Archivo | C10: 6 | D10: ='Anexo 06'!$P$7 -> 3600
B11: Unidad de Registros Civiles | C11: 7 | D11: ='Anexo 07'!$P$7 -> 3000
B12: Gerencia Municipal | C12: 8 | D12: ='Anexo 08'!$P$7 -> 30000
B13: Oficina de Ejecutoria Coactiva | C13: 9 | D13: ='Anexo 09'!$P$7 -> 24000
B14: Gerencia de Administración y Finanzas | C14: 10 | D14: ='Anexo 10'!$P$7 -> 12000
B15: Unidad de Recursos Humanos | C15: 11 | D15: ='Anexo 11'!$P$7 -> 3600
B16: Unidad de Logística | C16: 12 | D16: ='Anexo 12'!$P$7 -> 3600
B17: Unidad de Tesorería | C17: 13 | D17: ='Anexo 13'!$P$7 -> 6000
B18: Unidad de Contabilidad | C18: 14 | D18: ='Anexo 14'!$P$7 -> 3600
B19: Unidad de Informática | C19: 15 | D19: ='Anexo 15'!$P$7 -> 9600
B20: Gerencia de Administración Tributaria y Rentas | C20: 16 | D20: ='Anexo 16'!$P$7 -> 9600
B21: Unidad de Control y Recaudación | C21: 17 | D21: ='Anexo 17'!$P$7 -> 3600
B22: Unidad de Fiscalización | C22: 18 | D22: ='Anexo 18'!$P$7 -> 3600
B23: Oficina de Asesoría Jurídica | C23: 19 | D23: ='Anexo 19'!$P$7 -> 7200
B24: Oficina de Planeamiento y Presupuesto | C24: 20 | D24: ='Anexo 20'!$P$7 -> 12000
B25: Oficina de Proyectos de Inversión | C25: 21 | D25: ='Anexo 21'!$P$7 -> 3600
B26: Gerencia de Desarrollo Urbano y Rural | C26: 22 | D26: ='Anexo 22'!$P$7 -> 6000
B27: Unidad de Estudios y Proyectos | C27: 23 | D27: ='Anexo 23'!$P$7 -> 2400
B28: Unidad de Obras y Liquidaciones | C28: 24 | D28: ='Anexo 24'!$P$7 -> 2400
B29: Unidad de Catastro, Expansión Urbana e Inmobiliaria | C29: 25 | D29: ='Anexo 25'!$P$7 -> 9600
B30: Unidad de Equipo y Maquinaria | C30: 26 | D30: ='Anexo 26'!$P$7 -> 64500
B31: Unidad de Defensa Civil | C31: 27 | D31: ='Anexo 27'!$P$7 -> 48000
B32: Gerencia de Servicios a la Ciudad y Medio Ambiente | C32: 28 | D32: ='Anexo 28'!$P$7 -> 12000
B33: Unidad de Seguridad Ciudadana y Policía Municipal | C33: 29 | D33: ='Anexo 29'!$P$7 -> 9600
B34: Unidad de Gestión Ambiental y Salud | C34: 30 | D34: ='Anexo 30'!$P$7 -> 0
B35: Limpieza Pública | C35: 30A | D35: ='Anexo 30A'!$P$7 -> 144000
B36: Relleno Sanitario | C36: 30B | D36: ='Anexo 30B'!$P$7 -> 6000
B37: Áreas Verdes - Parques y Jardines | C37: 30C | D37: ='Anexo 30C'!$P$7 -> 6000
B38: Unidad de Mercado y Camal - Mercado | C38: 31A | D38: ='Anexo 31A'!$P$7 -> 12000
B39: Unidad de Mercado y Camal - Camal | C39: 31B | D39: ='Anexo 31B'!$P$7 -> 8400
B40: Unidad de Transporte y Tránsito | C40: 32 | D40: ='Anexo 32'!$P$7 -> 26000
...

Sheet Anexo 01
A1: ANEXO 01
A2: FORMATO 01
A3: PLAN OPERATIVO INSTITUCIONAL 2011
A5: Institución | C5: : MUNICIPALIDAD PROVINCIAL DE HUAYLAS - CARAZ
A6: Gerencia y/u Oficina | C6: : Alcaldía
A7: Unidad Orgánica | C7: : | O7: COSTO TOTAL: | P7: =SUM(E13:E31) -> 60000
A8: Objetivo General | C8: : Dirigir, supervisar y evaluar el cumplimiento de las metas establecidas.
A10: OBJETIVOS ESPECÍFICOS | C10: ACTIVIDADES | E10: COSTO S/. | F10: Meta Física | H10: CRONOGRAMA DE ACTIVIDADES
F11: Unidad de Medida | G11: Can- tidad | H11: I TRIMESTRE | K11: II TRIMESTRE | N11: III TRIMESTRE | Q11: IV TRIMESTRE
H12: Ene | I12: Feb | J12: Mar | K12: Abr | L12: May | M12: Jun | N12: Jul | O12: Ago | P12: Set | Q12: Oct | R12: Nov | S12: Dic
A13: 1 | B13: Realizar gestiones de alto nivel, para la consecución de financiamiento para la ejecución de obras. | C13: 1 | D13: Gestiones ante las instituciones públicas, privadas y de la cooperación internacional para el logro de financiamiento de obras. | E13: 3400 | F13: Acción | G13: 12 | H13: 1 | I13: 1 | J13: 1 | K13: 1 | L13: 1 | M13: 1 | N13: 1 | O13: 1 | P13: 1 | Q13: 1 | R13: 1 | S13: 1
A14: 2 | B14: Realizar coordinaciones internas, como parte de la política de la concertación. | C14: 1 | D14: Reuniones internas: reunión de concejo con regidores y funcionarios. | E14: 1740 | F14: Reunión | G14: 60 | H14: 5 | I14: 5 | J14: 5 | K14: 5 | L14: 5 | M14: 5 | N14: 5 | O14: 5 | P14: 5 | Q14: 5 | R14: 5 | S14: 5
C15: 2 | D15: Coordinación y evaluación de planes y programas del Comité de Vigilancia y control de Presupuesto Participativo y Reuniones Vecinales. | E15: 3400 | F15: Reunión | G15: 24 | H15: 2 | I15: 2 | J15: 2 | K15: 2 | L15: 2 | M15: 2 | N15: 2 | O15: 2 | P15: 2 | Q15: 2 | R15: 2 | S15: 2
C16: 3 | D16: Reuniones externas: diálogo vecinal a nivel provincial. | E16: 850 | F16: Reunión | G16: 24 | H16: 2 | I16: 2 | J16: 2 | K16: 2 | L16: 2 | M16: 2 | N16: 2 | O16: 2 | P16: 2 | Q16: 2 | R16: 2 | S16: 2
A17: 3 | B17: Realizar coordinaciones internacionales, para posicionar a la ciudad de Caraz a nivel mundial. | C17: 1 | D17: Reuniones internacionales: invitaciones a representantes de diferentes países con motivo de posicionar a Caraz como destino turístico. | E17: 5300 | F17: Reunión | G17: 2 | K17: 1 | P17: 1
A18: 4 | B18: Realizar coordinaciones nacional, regional, provincial y distrital. | C18: 1 | D18: Reuniones externas: Ministros, Congresistas, Gobierno Regional, Alcaldes Provinciales y Distritales de Ancash para conseguir apoyo para el desarrollo de Caraz. | E18: 3690 | F18: Reunión | G18: 12 | H18: 1 | I18: 1 | J18: 1 | K18: 1 | L18: 1 | M18: 1 | N18: 1 | O18: 1 | P18: 1 | Q18: 1 | R18: 1 | S18: 1
A19: 5 | B19: Realizar coordinaciones provinciales para lograr el desarrollo de Caraz. | C19: 1 | D19: Reuniones permanente con los integrantes de los Órganos Consultivos y otros. | E19: 3500 | F19: Reunión | G19: 24 | H19: 2 | I19: 2 | J19: 2 | K19: 2 | L19: 2 | M19: 2 | N19: 2 | O19: 2 | P19: 2 | Q19: 2 | R19: 2 | S19: 2
C20: 2 | D20: Coordinación de actividades institucionales con organismos públicos o privados fuera de la provincia. | E20: 3500 | F20: Reunión | G20: 12 | H20: 1 | I20: 1 | J20: 1 | K20: 1 | L20: 1 | M20: 1 | N20: 1 | O20: 1 | P20: 1 | Q20: 1 | R20: 1 | S20: 1
C21: 3 | D21: Reuniones internas: del Alcalde con funcionarios de las (opds) Organismos Públicos Descentralizados. | E21: 1740 | F21: Reunión | G21: 12 | H21: 1 | I21: 1 | J21: 1 | K21: 1 | L21: 1 | M21: 1 | N21: 1 | O21: 1 | P21: 1 | Q21: 1 | R21: 1 | S21: 1
A22: 6 | B22: Asistir en actividades locales dentro de la política de participación vecinal. | C22: 1 | D22: Participación en las diferentes actividades cívicas, religiosas, culturales, costumbristas, etc. | E22: 1740 | F22: Acción | G22: 12 | H22: 1 | I22: 1 | J22: 1 | K22: 1 | L22: 1 | M22: 1 | N22: 1 | O22: 1 | P22: 1 | Q22: 1 | R22: 1 | S22: 1
A23: 7 | B23: Asistir en las actividades de carácter distrital. | C23: 1 | D23: Participación en las diferentes actividades por aniversario de los distritos de la provincia de Huaylas, Comunidades Campesinas y en Campañas de Proyección a la Comunidad. | E23: 1740 | F23: Acción | G23: 12 | H23: 1 | I23: 1 | J23: 1 | K23: 1 | L23: 1 | M23: 1 | N23: 1 | O23: 1 | P23: 1 | Q23: 1 | R23: 1 | S23: 1
A24: 8 | B24: Asistir en las actividades de carácter provincial. | C24: 1 | D24: Participación en las diferentes actividades por aniversario de las provincias de la región Ancash, especialmente de la Mancomunidad Hatun Huaylas y Corredor Andino. | E24: 3400 | F24: Acción | G24: 12 | H24: 1 | I24: 1 | J24: 1 | K24: 1 | L24: 1 | M24: 1 | N24: 1 | O24: 1 | P24: 1 | Q24: 1 | R24: 1 | S24: 1
A25: 9 | B25: Fomentar la imagen corporativa para posicionar a Caraz | C25: 1 | D25: Participación en las diferentes actividades de carácter nacional (distintos departamentos y provincias de la nación) para posicionar turísticamente a la provincia de Huaylas. | E25: 6000 | F25: Acción | G25: 12 | H25: 1 | I25: 1 | J25: 1 | K25: 1 | L25: 1 | M25: 1 | N25: 1 | O25: 1 | P25: 1 | Q25: 1 | R25: 1 | S25: 1
C26: 2 | D26: Elaboración de distinciones. | E26: 1000 | F26: Acción | G26: 3 | K26: 1 | N26: 1 | R26: 1
C27: 3 | D27: Conferencias y reuniones de prensa nacional, regional y local y visitas guiadas a las obras. | E27: 6000 | F27: Conferencia | G27: 18 | H27: 2 | I27: 2 | J27: 1 | K27: 1 | L27: 2 | M27: 2 | N27: 2 | O27: 2 | P27: 1 | Q27: 1 | R27: 1 | S27: 1
A28: 10 | B28: Desarrollar distintos eventos para impulsar la transparencia. | C28: 1 | D28: Organizaciones de fórum, paneles, simposium sobre temas de interés regional y nacional dentro de la política de concertación y transparencia. | E28: 3400 | F28: Evento | G28: 12 | H28: 1 | I28: 1 | J28: 1 | K28: 1 | L28: 1 | M28: 1 | N28: 1 | O28: 1 | P28: 1 | Q28: 1 | R28: 1 | S28: 1
C29: 2 | D29: Refrigerio, alimentos, gaseosas para eventos oficiales de la municipalidad y según calendario cívico municipal y agendas oficiales. | E29: 1000 | F29: Acción | G29: 12 | H29: 1 | I29: 1 | J29: 1 | K29: 1 | L29: 1 | M29: 1 | N29: 1 | O29: 1 | P29: 1 | Q29: 1 | R29: 1 | S29: 1
A30: 11 | B30: Desarrollar acciones de fortalecimiento municipal. | C30: 1 | D30: Fortalecimiento de la gestión municipal con planes y programas específicos. | E30: 3400 | F30: Acción | G30: 12 | H30: 1 | I30: 1 | J30: 1 | K30: 1 | L30: 1 | M30: 1 | N30: 1 | O30: 1 | P30: 1 | Q30: 1 | R30: 1 | S30: 1
C31: 2 | D31: Implementación de programas de radio y televisión municipal, con equipamiento adecuado. | E31: 5200 | F31: Acción | G31: 10 | J31: 1 | K31: 1 | L31: 1 | M31: 1 | N31: 1 | O31: 1 | P31: 1 | Q31: 1 | R31: 1 | S31: 1

Sheet Anexo 02
A1: ANEXO 02
A2: FORMATO 01
A3: PLAN OPERATIVO INSTITUCIONAL 2011
A5: Institución | C5: : MUNICIPALIDAD PROVINCIAL DE HUAYLAS - CARAZ
A6: Gerencia y/u Oficina | C6: : Órgano de Control Institucional
A7: Unidad Orgánica | C7: : | O7: COSTO TOTAL: | P7: =SUM(E13:E15) -> 2400
A8: Objetivo General | C8: : Garantizar una gestión transparente realizando el seguimiento y control de la gestión institucional. | T8: =45*3000 -> 135000
A10: OBJETIVOS ESPECÍFICOS | C10: ACTIVIDADES | E10: COSTO S/. | F10: Meta Física | H10: CRONOGRAMA DE ACTIVIDADES
F11: Unidad de Medida | G11: Can- tidad | H11: I TRIMESTRE | K11: II TRIMESTRE | N11: III TRIMESTRE | Q11: IV TRIMESTRE
H12: Ene | I12: Feb | J12: Mar | K12: Abr | L12: May | M12: Jun | N12: Jul | O12: Ago | P12: Set | Q12: Oct | R12: Nov | S12: Dic
A13: 1 | B13: Contribuir al desarrollo de una gestión institucional transparente. | C13: 1 | D13: Desarrollo de acciones de control. | E13: 800 | F13: Acción | G13: =SUM(H13:S13) -> 12 | H13: 1 | I13: 1 | J13: 1 | K13: 1 | L13: 1 | M13: 1 | N13: 1 | O13: 1 | P13: 1 | Q13: 1 | R13: 1 | S13: 1
C14: 2 | D14: Desarrollo de actividades de control. | E14: 800 | F14: Acción | G14: 12 | H14: 1 | I14: 1 | J14: 1 | K14: 1 | L14: 1 | M14: 1 | N14: 1 | O14: 1 | P14: 1 | Q14: 1 | R14: 1 | S14: 1
C15: 3 | D15: Desarrollo de auditorías. | E15: 800 | F15: Acción | G15: 12 | H15: 1 | I15: 1 | J15: 1 | K15: 1 | L15: 1 | M15: 1 | N15: 1 | O15: 1 | P15: 1 | Q15: 1 | R15: 1 | S15: 1

Sheet Anexo 03
A1: ANEXO 03
A2: FORMATO 01
A3: PLAN OPERATIVO INSTITUCIONAL 2011
A5: Institución | C5: : MUNICIPALIDAD PROVINCIAL DE HUAYLAS - CARAZ
A6: Gerencia y/u Oficina | C6: : Procuraduría Pública Municipal
A7: Unidad Orgánica | C7: : | O7: COSTO TOTAL: | P7: =SUM(E13:E20) -> 3600
A8: Objetivo General | C8: : Garantizar la representación de la Municipalidad en los Procesos Judiciales, Administrativos y otros.
A10: OBJETIVOS ESPECÍFICOS | C10: ACTIVIDADES | E10: COSTO S/. | F10: Meta Física | H10: CRONOGRAMA DE ACTIVIDADES
F11: Unidad de Medida | G11: Can- tidad | H11: I TRIMESTRE | K11: II TRIMESTRE | N11: III TRIMESTRE | Q11: IV TRIMESTRE
H12: Ene | I12: Feb | J12: Mar | K12: Abr | L12: May | M12: Jun | N12: Jul | O12: Ago | P12: Set | Q12: Oct | R12: Nov | S12: Dic
A13: 1 | B13: Informar al titular del pliego, al Consejo Nacional de Defensa Jurídica del Estado, sobre el estado de los procesos judiciales; así como la representación y actuación procesal de la Oficina de Procuraduría. | C13: 1 | D13: Efectuar informes mensuales al titular así como al representante del Consejo Nacional de Defensa Jurídica del Estado. | E13: 400 | F13: Documento | G13: 12 | H13: 1 | I13: 1 | J13: 1 | K13: 1 | L13: 1 | M13: 1 | N13: 1 | O13: 1 | P13: 1 | Q13: 1 | R13: 1 | S13: 1
C14: 2 | D14: Participar en representación de la Municipalidad en los Procesos en donde la Municipalidad sea parte denunciada o denunciante | E14: 400 | F14: Acción | G14: 360 | H14: 30 | I14: 30 | J14: 30 | K14: 30 | L14: 30 | M14: 30 | N14: 30 | O14: 30 | P14: 30 | Q14: 30 | R14: 30 | S14: 30
C15: 3 | D15: Solicitar información a las demás áreas de la Municipalidad, con la finalidad de conocer alguna irregularidad existente. | E15: 400 | F15: Documento | G15: 108 | H15: 9 | I15: 9 | J15: 9 | K15: 9 | L15: 9 | M15: 9 | N15: 9 | O15: 9 | P15: 9 | Q15: 9 | R15: 9 | S15: 9
A16: 2 | B16: Ejercer la defensa de los Procesos Judiciales (Policía, Fiscalía y Juzgado) en representación de la Municipalidad. | C16: 1 | D16: Apersonamiento con la credencial respectiva en todas la acciones judiciales. | E16: 300 | F16: Documento | G16: 120 | H16: 10 | I16: 10 | J16: 10 | K16: 10 | L16: 10 | M16: 10 | N16: 10 | O16: 10 | P16: 10 | Q16: 10 | R16: 10 | S16: 10
C17: 2 | D17: Impulsar los procesos judiciales, representando escritos en fechas oportunas. | E17: 300 | F17: Acción | G17: 240 | H17: 20 | I17: 20 | J17: 20 | K17: 20 | L17: 20 | M17: 20 | N17: 20 | O17: 20 | P17: 20 | Q17: 20 | R17: 20 | S17: 20
C18: 3 | D18: Participar en nombre de la Municipalidad en diligencias de investigación preliminar, judicial, policial, en donde la Municipalidad se encuentra inmerso. | E18: 300 | F18: Acción | G18: 210 | H18: 16 | I18: 16 | J18: 16 | K18: 18 | L18: 18 | M18: 18 | N18: 18 | O18: 18 | P18: 18 | Q18: 18 | R18: 18 | S18: 18
C19: 4 | D19: Interponer medios de defensa contra decisiones que afecten los intereses de la Municipalidad. | E19: 300 | F19: Acción | G19: 60 | H19: 5 | I19: 5 | J19: 5 | K19: 5 | L19: 5 | M19: 5 | N19: 5 | O19: 5 | P19: 5 | Q19: 5 | R19: 5 | S19: 5
A20: 3 | B20: Contribuir a lograr la interrelación y coordinación con las demás Gerencias. | C20: 1 | D20: Programación de actividades de carácter jurídico legal con las demás áreas de la Municipalidad, para dar a conocer aspectos jurídicos legales en los cuales no deben de incurrir ningún funcionario ni empleado público. | E20: 1200 | F20: Acción | G20: 12 | H20: 1 | I20: 1 | J20: 1 | K20: 1 | L20: 1 | M20: 1 | N20: 1 | O20: 1 | P20: 1 | Q20: 1 | R20: 1 | S20: 1

Sheet Anexo 04
A1: ANEXO 04
A2: FORMATO 01
A3: PLAN OPERATIVO INSTITUCIONAL 2011
A5: Institución | C5: : MUNICIPALIDAD PROVINCIAL DE HUAYLAS - CARAZ
A6: Gerencia y/u Oficina | C6: :
A7: Unidad Orgánica | C7: : Unidad de Imagen Institucional | O7: COSTO TOTAL: | P7: =SUM(E13:E33) -> 59200
A8: Objetivo General | C8: : Crear una adecuada imagen a la institución.
A10: OBJETIVOS ESPECÍFICOS | C10: ACTIVIDADES | E10: COSTO S/. | F10: Meta Física | H10: CRONOGRAMA DE ACTIVIDADES
F11: Unidad de Medida | G11: Can- tidad | H11: I TRIMESTRE | K11: II TRIMESTRE | N11: III TRIMESTRE | Q11: IV TRIMESTRE
H12: Ene | I12: Feb | J12: Mar | K12: Abr | L12: May | M12: Jun | N12: Jul | O12: Ago | P12: Set | Q12: Oct | R12: Nov | S12: Dic
A13: 1 | B13: Reestructurar en algunos casos el funcionamiento de la Unidad de Imagen Institucional de la Municipalidad Provincial de Huaylas. | C13: 1 | D13: Establecer los lineamientos de organización y eventos. | E13: 0 | F13: Documento | G13: 1 | K13: 1
C14: 2 | D14: Establecer los lineamientos de comunicación e información. | E14: 0 | F14: Documento | G14: 1 | K14: 1
C15: 3 | D15: Definir funciones del personal de la UII. | E15: 0 | F15: Documento | G15: 1 | K15: 1
C16: 4 | D16: Reestructurar los medios de comunicación base para la UII. | E16: 0 | F16: Documento | G16: 1 | K16: 1
C17: 5 | D17: Establecer el manual de identidad corporativa. | E17: 0 | F17: Documento | G17: 1 | K17: 1
C18: 6 | D18: Definir estructuras de campañas en publicidad y relaciones públicas. | E18: 0 | F18: Documento | G18: 1 | K18: 1
A19: 2 | B19: Establecer herramientas de comunicación base para la Municipalidad Provincial de Huaylas. | C19: 1 | D19: Actualización del Facebook. | E19: 0 | F19: Acción | G19: 12 | H19: 1 | I19: 1 | J19: 1 | K19: 1 | L19: 1 | M19: 1 | N19: 1 | O19: 1 | P19: 1 | Q19: 1 | R19: 1 | S19: 1
C20: 2 | D20: Actualización del Twitter. | E20: 0 | F20: Acción | G20: 12 | H20: 1 | I20: 1 | J20: 1 | K20: 1 | L20: 1 | M20: 1 | N20: 1 | O20: 1 | P20: 1 | Q20: 1 | R20: 1 | S20: 1
C21: 3 | D21: Actualización del periódico mural. | E21: 672 | F21: Publicación | G21: 3000 | H21: 250 | I21: 250 | J21: 250 | K21: 250 | L21: 250 | M21: 250 | N21: 250 | O21: 250 | P21: 250 | Q21: 250 | R21: 250 | S21: 250
C22: 4 | D22: Actualización de la página web. | E22: 0 | F22: Acción | G22: 1 | L22: 1
C23: 5 | D23: Monitoreo y publicación del buzón de sugerencias. | E23: 584 | F23: Publicación | G23: 12000 | H23: 1000 | I23: 1000 | J23: 1000 | K23: 1000 | L23: 1000 | M23: 1000 | N23: 1000 | O23: 1000 | P23: 1000 | Q23: 1000 | R23: 1000 | S23: 1000
C24: 6 | D24: Distribución y publicación de notas de prensa. | E24: 1344 | F24: Publicación | G24: 12000 | H24: 1000 | I24: 1000 | J24: 1000 | K24: 1000 | L24: 1000 | M24: 1000 | N24: 1000 | O24: 1000 | P24: 1000 | Q24: 1000 | R24: 1000 | S24: 1000
A25: 3 | B25: Establecer el archivo audiovisual. | C25: 1 | D25: Llevar archivos de video en DVD. | E25: 840 | F25: Acción | G25: 12 | H25: 1 | I25: 1 | J25: 1 | K25: 1 | L25: 1 | M25: 1 | N25: 1 | O25: 1 | P25: 1 | Q25: 1 | R25: 1 | S25: 1
C26: 2 | D26: Llevar archivos de audio en CD. | E26: 600 | F26: Acción | G26: 12 | H26: 1 | I26: 1 | J26: 1 | K26: 1 | L26: 1 | M26: 1 | N26: 1 | O26: 1 | P26: 1 | Q26: 1 | R26: 1 | S26: 1
A27: 4 | B27: Establecer campañas de publicidad y relaciones públicas. | C27: 1 | D27: Realizar trabajos de creatividad publicitaria. | E27: 5640 | F27: Acción | G27: 12 | H27: 1 | I27: 1 | J27: 1 | K27: 1 | L27: 1 | M27: 1 | N27: 1 | O27: 1 | P27: 1 | Q27: 1 | R27: 1 | S27: 1
C28: 2 | D28: Realizar trabajos de edición. | E28: 5640 | F28: Acción | G28: 12 | H28: 1 | I28: 1 | J28: 1 | K28: 1 | L28: 1 | M28: 1 | N28: 1 | O28: 1 | P28: 1 | Q28: 1 | R28: 1 | S28: 1
A29: 5 | B29: Garantizar el normal funcionamiento de la oficina. | C29: 1 | D29: Desarrollo de labores administrativas. | E29: 3120 | F29: Acción | G29: 12 | H29: 1 | I29: 1 | J29: 1 | K29: 1 | L29: 1 | M29: 1 | N29: 1 | O29: 1 | P29: 1 | Q29: 1 | R29: 1 | S29: 1
A30: 6 | B30: Implementar con equipos de información a la unidad. | C30: 1 | D30: Implementar a la oficina con grabadoras o reporteras. | E30: 560 | F30: Equipo | G30: 2 | K30: 1 | L30: 1
C31: 2 | D31: Implementar el buzón de sugerencias. | E31: 200 | F31: Buzón | G31: 1 | K31: 1
A32: 7 | B32: Promover la celebración de las principales fechas festivas. | C32: 1 | D32: Celebración del 190 Aniversario de la Creación de la Provincia de Huaylas. | E32: 20000 | F32: Celebración | G32: 1 | I32: 1
C33: 2 | D33: Celebración del 150 Aniversario de Elevación de Villa a Ciudad de Caraz. | E33: 20000 | F33: Celebración | G33: 1 | K33: 1

Sheet Anexo 05
A1: ANEXO 05
A2: FORMATO 01
A3: PLAN OPERATIVO INSTITUCIONAL 2011
A5: Institución | C5: : MUNICIPALIDAD PROVINCIAL DE HUAYLAS - CARAZ
A6: Gerencia y/u Oficina | C6: : Secretaría General
A7: Unidad Orgánica | C7: : | O7: COSTO TOTAL: | P7: =SUM(E13:E18) -> 18000
A8: Objetivo General | C8: : Desarrollar capacidades, habilidades y destrezas en el marco de las acciones administrativas y de servicio, encaminados al logro de un mejor nivel organizacional, funcional y ejecutivo de la Gestión Municipal.
A10: OBJETIVOS ESPECÍFICOS | C10: ACTIVIDADES | E10: COSTO S/. | F10: Meta Física | H10: CRONOGRAMA DE ACTIVIDADES
F11: Unidad de Medida | G11: Can- tidad | H11: I TRIMESTRE | K11: II TRIMESTRE | N11: III TRIMESTRE | Q11: IV TRIMESTRE
H12: Ene | I12: Feb | J12: Mar | K12: Abr | L12: May | M12: Jun | N12: Jul | O12: Ago | P12: Set | Q12: Oct | R12: Nov | S12: Dic
A13: 1 | B13: Preservar la historia de la Municipalidad Provincial de Huaylas conservando y custodiando el acervo documentario que emana del Consejo Municipal de acuerdo al RIC y al ROF de la institución edil. | C13: 1 | D13: Levantamiento de Actas de Reuniones de Trabajo de las Comisiones ordinarias de Regidores y su transcripción. | E13: 3360 | F13: Acta | G13: 48 | H13: 4 | I13: 4 | J13: 4 | K13: 4 | L13: 4 | M13: 4 | N13: 4 | O13: 4 | P13: 4 | Q13: 4 | R13: 4 | S13: 4
C14: 2 | D14: Publicación de Ordenanzas y Normas legales locales. | E14: 7500 | F14: Publicación | G14: 15 | H14: 1 | I14: 1 | J14: 2 | K14: 1 | L14: 1 | M14: 2 | N14: 1 | O14: 1 | P14: 2 | Q14: 1 | R14: 1 | S14: 1
C15: 3 | D15: Apoyar al Alcalde en materia administrativa en el ámbito de su competencia. | E15: 1848 | F15: Acción | G15: 12 | H15: 1 | I15: 1 | J15: 1 | K15: 1 | L15: 1 | M15: 1 | N15: 1 | O15: 1 | P15: 1 | Q15: 1 | R15: 1 | S15: 1
A16: 2 | B16: Servir de enlace frente a las demás áreas, instituciones y personas, informando sobre las políticas, planes y programas de acción buscando así unificar criterios para el logro de una organización integral. | C16: 1 | D16: Notificar las disposiciones legales. | E16: 1152 | F16: Notificación | G16: 72 | H16: 6 | I16: 6 | J16: 6 | K16: 6 | L16: 6 | M16: 6 | N16: 6 | O16: 6 | P16: 6 | Q16: 6 | R16: 6 | S16: 6
C17: 2 | D17: Organización de Sesiones Solemnes. | E17: 3500 | F17: Sesión | G17: 10 | I17: 1 | K17: 1 | L17: 1 | M17: 1 | N17: 2 | P17: 1 | Q17: 1 | R17: 1 | S17: 1
C18: 3 | D18: Envío de correspondencia interna y externa. | E18: 640 | F18: Documento | G18: 120 | H18: 10 | I18: 10 | J18: 10 | K18: 10 | L18: 10 | M18: 10 | N18: 10 | O18: 10 | P18: 10 | Q18: 10 | R18: 10 | S18: 10

Sheet Anexo 05A
A1: ANEXO 05 A
A2: FORMATO 01
A3: PLAN OPERATIVO INSTITUCIONAL 2011
A5: Institución | C5: : MUNICIPALIDAD PROVINCIAL DE HUAYLAS - CARAZ
A6: Gerencia y/u Oficina | C6: : Secretaría General - Sala de Regidores
A7: Unidad Orgánica | C7: : | O7: COSTO TOTAL: | P7: =SUM(E13:E26) -> 6000
A8: Objetivo General | C8: : Desarrollar gestiones de canalización de normatividad y fizcalización de la gestión del Consejo Municipal en coordinación con las Comisiones de Regidores y Regidores.
A10: OBJETIVOS ESPECÍFICOS | C10: ACTIVIDADES | E10: COSTO S/. | F10: Meta Física | H10: CRONOGRAMA DE ACTIVIDADES
F11: Unidad de Medida | G11: Can- tidad | H11: I TRIMESTRE | K11: II TRIMESTRE | N11: III TRIMESTRE | Q11: IV TRIMESTRE
H12: Ene | I12: Feb | J12: Mar | K12: Abr | L12: May | M12: Jun | N12: Jul | O12: Ago | P12: Set | Q12: Oct | R12: Nov | S12: Dic
A13: 1 | B13: Atender los diferentes documentos administrativos, propuestas de Proyectos de Ordenanzas y otros de las respectivas Comisiones. | C13: 1 | D13: Recepción de expedientes externos e internos. | E13: 100 | F13: Expediente | G13: 561 | H13: 47 | I13: 47 | J13: 47 | K13: 47 | L13: 47 | M13: 47 | N13: 47 | O13: 47 | P13: 47 | Q13: 46 | R13: 46 | S13: 46
C14: 2 | D14: Despacho de los expedientes a los Regidores y/o Comisión de Regidores. | E14: 100 | F14: Expediente | G14: 561 | H14: 47 | I14: 47 | J14: 47 | K14: 47 | L14: 47 | M14: 47 | N14: 47 | O14: 47 | P14: 47 | Q14: 46 | R14: 46 | S14: 46
C15: 3 | D15: Recepción y proveído de los expedientes en trámite, para la recopilación de los informes técnico legales. | E15: 200 | F15: Expediente | G15: 561 | H15: 47 | I15: 47 | J15: 47 | K15: 47 | L15: 47 | M15: 47 | N15: 47 | O15: 47 | P15: 47 | Q15: 46 | R15: 46 | S15: 46
C16: 4 | D16: Recopilación y recepción de la información solicitada. | E16: 100 | F16: Expediente | G16: 561 | H16: 47 | I16: 47 | J16: 47 | K16: 47 | L16: 47 | M16: 47 | N16: 47 | O16: 47 | P16: 47 | Q16: 46 | R16: 46 | S16: 46
C17: 5 | D17: Disposición de los expedientes a las Comisiones para su tratamiento. | E17: 100 | F17: Expediente | G17: 561 | H17: 47 | I17: 47 | J17: 47 | K17: 47 | L17: 47 | M17: 47 | N17: 47 | O17: 47 | P17: 47 | Q17: 46 | R17: 46 | S17: 46
C18: 6 | D18: Elaboración de los Dictámenes. | E18: 2750 | F18: Dictamen | G18: 561 | H18: 47 | I18: 47 | J18: 47 | K18: 47 | L18: 47 | M18: 47 | N18: 47 | O18: 47 | P18: 47 | Q18: 46 | R18: 46 | S18: 46
C19: 7 | D19: Gestión de los Dictámenes para su aprobación en el Concejo. | E19: 800 | F19: Dictamen | G19: 561 | H19: 47 | I19: 47 | J19: 47 | K19: 47 | L19: 47 | M19: 47 | N19: 47 | O19: 47 | P19: 47 | Q19: 46 | R19: 46 | S19: 46
C20: 8 | D20: Elaboración de documentos varios. | E20: 200 | F20: Documento | G20: 561 | H20: 47 | I20: 47 | J20: 47 | K20: 47 | L20: 47 | M20: 47 | N20: 47 | O20: 47 | P20: 47 | Q20: 46 | R20: 46 | S20: 46
A21: 2 | B21: Tramitar las convocatorias a propuesta de los Presidentes de cada Comisión de Regidores . | C21: 1 | D21: Recepción de expedientes y propuestas de ordenanza. | E21: 50 | F21: Expediente | G21: 300 | H21: 25 | I21: 25 | J21: 25 | K21: 25 | L21: 25 | M21: 25 | N21: 25 | O21: 25 | P21: 25 | Q21: 25 | R21: 25 | S21: 25
C22: 2 | D22: Convocatoria a los integrantes de Comisión y Funcionarios. | E22: 200 | F22: Convocatoria | G22: 300 | H22: 25 | I22: 25 | J22: 25 | K22: 25 | L22: 25 | M22: 25 | N22: 25 | O22: 25 | P22: 25 | Q22: 25 | R22: 25 | S22: 25
C23: 3 | D23: Reunión y levantamiento del acta de reunión de trabajo. | E23: 800 | F23: Acta | G23: 300 | H23: 25 | I23: 25 | J23: 25 | K23: 25 | L23: 25 | M23: 25 | N23: 25 | O23: 25 | P23: 25 | Q23: 25 | R23: 25 | S23: 25
A24: 3 | B24: Proyectar los pedidos de los Regidores y/o Comisión de Regidores para efectos de fiscalización. | C24: 1 | D24: Petición del Regidor y/o Presidente de la Comisión. | E24: 200 | F24: Carta | G24: 540 | H24: 45 | I24: 45 | J24: 45 | K24: 45 | L24: 45 | M24: 45 | N24: 45 | O24: 45 | P24: 45 | Q24: 45 | R24: 45 | S24: 45
C25: 2 | D25: Elaboración de documentos y la derivación a Alcaldía. | E25: 200 | F25: Documento | G25: 540 | H25: 45 | I25: 45 | J25: 45 | K25: 45 | L25: 45 | M25: 45 | N25: 45 | O25: 45 | P25: 45 | Q25: 45 | R25: 45 | S25: 45
C26: 3 | D26: Seguimiento de los documentos. | E26: 200 | F26: Documento | G26: 540 | H26: 45 | I26: 45 | J26: 45 | K26: 45 | L26: 45 | M26: 45 | N26: 45 | O26: 45 | P26: 45 | Q26: 45 | R26: 45 | S26: 45

Sheet Anexo 06
A1: ANEXO 06
A2: FORMATO 01
A3: PLAN OPERATIVO INSTITUCIONAL 2011
A5: Institución | C5: : MUNICIPALIDAD PROVINCIAL DE HUAYLAS - CARAZ
A6: Gerencia y/u Oficina | C6: : Secretaría General
A7: Unidad Orgánica | C7: : Unidad de Trámite Documentario y Archivo | O7: COSTO TOTAL: | P7: =SUM(E13:E15) -> 3600
A8: Objetivo General | C8: : Fortalecer las capacidades instaladas en la Organización Municipal para el desarrollo óptimo de los servicios públicos teniendo en cuenta la innovación de la administración documentaria y archivo de la Institución.
A10: OBJETIVOS ESPECÍFICOS | C10: ACTIVIDADES | E10: COSTO S/. | F10: Meta Física | H10: CRONOGRAMA DE ACTIVIDADES
F11: Unidad de Medida | G11: Can- tidad | H11: I TRIMESTRE | K11: II TRIMESTRE | N11: III TRIMESTRE | Q11: IV TRIMESTRE
H12: Ene | I12: Feb | J12: Mar | K12: Abr | L12: May | M12: Jun | N12: Jul | O12: Ago | P12: Set | Q12: Oct | R12: Nov | S12: Dic
A13: 1 | B13: Garantizar la conducción efectiva de la Administración Documentaria y Archivo. | C13: 1 | D13: Administrar el archivo documentario de la institución, proponiendo e implementando medidas concernientes a la conservación de los documentos. | E13: 1000 | F13: Acción | G13: 12 | H13: 1 | I13: 1 | J13: 1 | K13: 1 | L13: 1 | M13: 1 | N13: 1 | O13: 1 | P13: 1 | Q13: 1 | R13: 1 | S13: 1
A14: 2 | B14: Brindar un servicio rápido y eficaz mediante la ubicación de los documentos para el logro de una organización integral. | C14: 1 | D14: Controlar el flujo y ubicación de los documentos y expedientes que ingresan y salen de la institución a fin de lograr el resguardo. | E14: 1000 | F14: Acción | G14: 12 | H14: 1 | I14: 1 | J14: 1 | K14: 1 | L14: 1 | M14: 1 | N14: 1 | O14: 1 | P14: 1 | Q14: 1 | R14: 1 | S14: 1
C15: 2 | D15: Controlar y desarrollar las actividades de depuración, transferencia y/o eliminación de la documentación de acuerdo a las normas vigentes | E15: 1600 | F15: Acción | G15: 6 | I15: 1 | K15: 1 | M15: 1 | O15: 1 | Q15: 1 | S15: 1

Sheet Anexo 07
A1: ANEXO 07
A2: FORMATO 01
A3: PLAN OPERATIVO INSTITUCIONAL 2011
A5: Institución | C5: : MUNICIPALIDAD PROVINCIAL DE HUAYLAS - CARAZ
A6: Gerencia y/u Oficina | C6: : Secretaría General
A7: Unidad Orgánica | C7: : Unidad de Registros Civiles | O7: COSTO TOTAL: | P7: =SUM(E13:E14) -> 3000
A8: Objetivo General | C8: : Fomentar, formalizar y fortalecer los hechos vitales y demás acciones de Registros de Estado Civil.
A10: OBJETIVOS ESPECÍFICOS | C10: ACTIVIDADES | E10: COSTO S/. | F10: Meta Física | H10: CRONOGRAMA DE ACTIVIDADES
F11: Unidad de Medida | G11: Can- tidad | H11: I TRIMESTRE | K11: II TRIMESTRE | N11: III TRIMESTRE | Q11: IV TRIMESTRE
H12: Ene | I12: Feb | J12: Mar | K12: Abr | L12: May | M12: Jun | N12: Jul | O12: Ago | P12: Set | Q12: Oct | R12: Nov | S12: Dic
A13: 1 | B13: Conservar y ordenar el material registral. | C13: 1 | D13: Realizar el empastado de las Actas de Nacimiento, Matrimonio y Defunsión. | E13: 1500 | F13: Empastado | G13: 50 | K13: 15 | M13: 15 | O13: 20
A14: 2 | B14: Propiciar la Unidad Familiar como fin supremo de la sociedad. | C14: 1 | D14: Celebración de Matrimonio Civil Comunitario. | E14: 1500 | F14: Celebración | G14: 1 | P14: 1

Sheet Anexo 08
A1: ANEXO 08
A2: FORMATO 01
A3: PLAN OPERATIVO INSTITUCIONAL 2011
A5: Institución | C5: : MUNICIPALIDAD PROVINCIAL DE HUAYLAS - CARAZ
A6: Gerencia y/u Oficina | C6: : Gerencia Municipal
A7: Unidad Orgánica | C7: : | O7: COSTO TOTAL: | P7: =SUM(E13:E42) -> 30000
A8: Objetivo General | C8: : Brindar un servicio adecuado a la comunidad, implementando mecanismos de control y simplificando el tramite administrativo.
A10: OBJETIVOS ESPECÍFICOS | C10: ACTIVIDADES | E10: COSTO S/. | F10: Meta Física | H10: CRONOGRAMA DE ACTIVIDADES
F11: Unidad de Medida | G11: Can- tidad | H11: I TRIMESTRE | K11: II TRIMESTRE | N11: III TRIMESTRE | Q11: IV TRIMESTRE
H12: Ene | I12: Feb | J12: Mar | K12: Abr | L12: May | M12: Jun | N12: Jul | O12: Ago | P12: Set | Q12: Oct | R12: Nov | S12: Dic
A13: 1 | B13: Asegurar una asignación óptima de recursos y mantener un control concurrente de las actividades de toda las áreas. | C13: 1 | D13: Revisión de POI. | E13: 75 | F13: Documento | G13: =SUM(H13:S13) -> 3 | H13: 1 | R13: 1 | S13: 1
C14: 2 | D14: Revisión del PIA. | E14: 80 | F14: Documento | G14: =SUM(H14:S14) -> 1 | H14: 1
C15: 3 | D15: Revisión del PIM. | E15: 450 | F15: Documento | G15: =SUM(H15:S15) -> 12 | H15: 1 | I15: 1 | J15: 1 | K15: 1 | L15: 1 | M15: 1 | N15: 1 | O15: 1 | P15: 1 | Q15: 1 | R15: 1 | S15: 1
C16: 4 | D16: Organización de Talleres de trabajo gerencial. | E16: 2990 | F16: Taller | G16: =SUM(H16:S16) -> 4 | I16: 1 | K16: 1 | N16: 1 | R16: 1
C17: 5 | D17: Formulación del reglamento de estímulo de los trabajadores. | E17: 3590 | F17: Documento | G17: =SUM(H17:S17) -> 1 | L17: 1
C18: 6 | D18: Formulación de directivas administrativas. | E18: 450 | F18: Documento | G18: =SUM(H18:S18) -> 6 | I18: 1 | K18: 1 | M18: 1 | O18: 1 | Q18: 1 | R18: 1
C19: 7 | D19: Implementación de un Programa Anual de capacitación integral de personal. | E19: 2690 | F19: Documento | G19: =SUM(H19:S19) -> 1 | N19: 1
C20: 8 | D20: Implementación de una base de datos de normas internas. | E20: 510 | F20: Acción | G20: =SUM(H20:S20) -> 2 | H20: 1 | I20: 1
A21: 2 | B21: Diseñar, coordinar y planificar con las áreas competentes los trabajos a ejecutarse. | C21: 1 | D21: Diseñar en coordinación con la alcaldía en la determinación de lineamientos de política estratégica, procedimientos para el cumplimiento y logro de metas establecidas. | E21: 300 | F21: Acción | G21: =SUM(H21:S21) -> 12 | H21: 1 | I21: 1 | J21: 1 | K21: 1 | L21: 1 | M21: 1 | N21: 1 | O21: 1 | P21: 1 | Q21: 1 | R21: 1 | S21: 1
C22: 2 | D22: Elaborar la memoria anual de gestión del ejercicio 2007 - 2010 y presentar al consejo municipal para su aprobación. | E22: 2690 | F22: Documento | G22: =SUM(H22:S22) -> 1 | S22: 1
C23: 3 | D23: Planificar, ejecutar, supervisar y evaluar todas las actividades y proyectos ejecutados por la municipalidad. | E23: 890 | F23: Acción | G23: =SUM(H23:S23) -> 12 | H23: 1 | I23: 1 | J23: 1 | K23: 1 | L23: 1 | M23: 1 | N23: 1 | O23: 1 | P23: 1 | Q23: 1 | R23: 1 | S23: 1
C24: 4 | D24: asesorar al alcalde en asuntos de su competencia. | E24: 1490 | F24: Acción | G24: =SUM(H24:S24) -> 12 | H24: 1 | I24: 1 | J24: 1 | K24: 1 | L24: 1 | M24: 1 | N24: 1 | O24: 1 | P24: 1 | Q24: 1 | R24: 1 | S24: 1
C25: 5 | D25: Evaluación de los recursos humanos, materiales y económicos. | E25: 240 | F25: Acción | G25: =SUM(H25:S25) -> 12 | H25: 1 | I25: 1 | J25: 1 | K25: 1 | L25: 1 | M25: 1 | N25: 1 | O25: 1 | P25: 1 | Q25: 1 | R25: 1 | S25: 1
C26: 6 | D26: evaluar y supervisar la ejecución de los ingreso y gastos. | E26: 250 | F26: Acción | G26: =SUM(H26:S26) -> 12 | H26: 1 | I26: 1 | J26: 1 | K26: 1 | L26: 1 | M26: 1 | N26: 1 | O26: 1 | P26: 1 | Q26: 1 | R26: 1 | S26: 1
C27: 7 | D27: Evaluar y supervisar la presentación de servicios. | E27: 240 | F27: Acción | G27: =SUM(H27:S27) -> 12 | H27: 1 | I27: 1 | J27: 1 | K27: 1 | L27: 1 | M27: 1 | N27: 1 | O27: 1 | P27: 1 | Q27: 1 | R27: 1 | S27: 1
C28: 8 | D28: Supervisar la Elaboración de los estados financieros. | E28: 260 | F28: Acción | G28: =SUM(H28:S28) -> 12 | H28: 1 | I28: 1 | J28: 1 | K28: 1 | L28: 1 | M28: 1 | N28: 1 | O28: 1 | P28: 1 | Q28: 1 | R28: 1 | S28: 1
C29: 9 | D29: Participar en el proceso de panificación y concertación provincial. | E29: 2540 | F29: Acción | G29: =SUM(H29:S29) -> 12 | H29: 1 | I29: 1 | J29: 1 | K29: 1 | L29: 1 | M29: 1 | N29: 1 | O29: 1 | P29: 1 | Q29: 1 | R29: 1 | S29: 1
C30: 10 | D30: Asesorar a las comisiones de regidores de la municipalidad. | E30: 80 | F30: Acción | G30: =SUM(H30:S30) -> 12 | H30: 1 | I30: 1 | J30: 1 | K30: 1 | L30: 1 | M30: 1 | N30: 1 | O30: 1 | P30: 1 | Q30: 1 | R30: 1 | S30: 1
C31: 11 | D31: Dirigir la marcha administrativa, por lo que se deberá establecer reuniones de coordinación permanente. | E31: 260 | F31: Acción | G31: =SUM(H31:S31) -> 12 | H31: 1 | I31: 1 | J31: 1 | K31: 1 | L31: 1 | M31: 1 | N31: 1 | O31: 1 | P31: 1 | Q31: 1 | R31: 1 | S31: 1
C32: 12 | D32: Hacer seguimiento de los contratos y convenios suscritos por la entidad con las instituciones públicas y privadas. | E32: 260 | F32: Acción | G32: =SUM(H32:S32) -> 12 | H32: 1 | I32: 1 | J32: 1 | K32: 1 | L32: 1 | M32: 1 | N32: 1 | O32: 1 | P32: 1 | Q32: 1 | R32: 1 | S32: 1
C33: 13 | D33: Hacer seguimientos de los problemas y asuntos concluidos, en proceso y/o pendientes de intereses institucionales. | E33: 155 | F33: Acción | G33: =SUM(H33:S33) -> 12 | H33: 1 | I33: 1 | J33: 1 | K33: 1 | L33: 1 | M33: 1 | N33: 1 | O33: 1 | P33: 1 | Q33: 1 | R33: 1 | S33: 1
C34: 14 | D34: Informar a la alta dirección de las diferentes acciones ejecutadas y por ejecutar, así como los de interés institucional. | E34: 260 | F34: Acción | G34: =SUM(H34:S34) -> 12 | H34: 1 | I34: 1 | J34: 1 | K34: 1 | L34: 1 | M34: 1 | N34: 1 | O34: 1 | P34: 1 | Q34: 1 | R34: 1 | S34: 1
... C42: 22 | D42: Evaluación de actividades programadas en el POI. | E42: 260 | F42: Acción | G42: =SUM(H42:S42) -> 12 | H42: 1 | I42: 1 | J42: 1 | K42: 1 | L42: 1 | M42: 1 | N42: 1 | O42: 1 | P42: 1 | Q42: 1 | R42: 1 | S42: 1

Sheet Anexo 09
A1: ANEXO 09
A2: FORMATO 01
A3: PLAN OPERATIVO INSTITUCIONAL 2011
A5: Institución | C5: : MUNICIPALIDAD PROVINCIAL DE HUAYLAS - CARAZ
A6: Gerencia y/u Oficina | C6: : Oficina de Ejecutoría Coactiva
A7: Unidad Orgánica | C7: : | O7: COSTO TOTAL: | P7: =SUM(E13:E23) -> 24000
A8: Objetivo General | C8: : Optimizar la ejecución de la cobranza de las deudas a favor de la Municipalidad Provincial de Huaylas - Caraz.
A10: OBJETIVOS ESPECÍFICOS | C10: ACTIVIDADES | E10: COSTO S/. | F10: Meta Física | H10: CRONOGRAMA DE ACTIVIDADES
F11: Unidad de Medida | G11: Can- tidad | H11: I TRIMESTRE | K11: II TRIMESTRE | N11: III TRIMESTRE | Q11: IV TRIMESTRE
H12: Ene | I12: Feb | J12: Mar | K12: Abr | L12: May | M12: Jun | N12: Jul | O12: Ago | P12: Set | Q12: Oct | R12: Nov | S12: Dic
A13: 1 | B13: Notificar a los infractores, sobre el inicio del Proceso de ejecucion coactiva, y las ordenes de captura impartidas. | C13: 1 | D13: Publicación de Papeletas de Infraccioón al Transito remitidos a esta oficina por la Oficina de Transporte para su ejecución (ubicación, captura e internamiento de vehículos en el depósito municipal). | E13: 2182 | F13: Acción | G13: 12 | H13: 1 | I13: 1 | J13: 1 | K13: 1 | L13: 1 | M13: 1 | N13: 1 | O13: 1 | P13: 1 | Q13: 1 | R13: 1 | S13: 1
C14: 2 | D14: Operativo de captura de vehículos e internamiento de los mismos, por encontrarse en cobranza coactiva y con orden de captura, por deudas pendientes de pago por los propietarios y/o infractores. | E14: 2181.8 | F14: Acción | G14: 12 | H14: 1 | I14: 1 | J14: 1 | K14: 1 | L14: 1 | M14: 1 | N14: 1 | O14: 1 | P14: 1 | Q14: 1 | R14: 1 | S14: 1
A15: 2 | B15: Trabar medidas cautelares con arreglo a ley. | C15: 1 | D15: Embargos en forma de secuestro conservativo y/o depósito. | E15: 2181.8 | F15: Acción | G15: 12 | H15: 1 | I15: 1 | J15: 1 | K15: 1 | L15: 1 | M15: 1 | N15: 1 | O15: 1 | P15: 1 | Q15: 1 | R15: 1 | S15: 1
C16: 2 | D16: Embargo en forma de retención a nivel de las entidades financieras. | E16: 2181.8 | F16: Acción | G16: 12 | H16: 1 | I16: 1 | J16: 1 | K16: 1 | L16: 1 | M16: 1 | N16: 1 | O16: 1 | P16: 1 | Q16: 1 | R16: 1 | S16: 1
C17: 3 | D17: Embargo en forma de inscripción. | E17: 2181.8 | F17: Acción | G17: 12 | H17: 1 | I17: 1 | J17: 1 | K17: 1 | L17: 1 | M17: 1 | N17: 1 | O17: 1 | P17: 1 | Q17: 1 | R17: 1 | S17: 1
A18: 3 | B18: Ejecutar estrategias de cobro fuera de la jurisdicción en otras provincias. | C18: 1 | D18: Coordinaciones con diferentes entidades de otras provincias y pago de derechos tributarios conforme el TUPA (Registros Públicos, Municipios, Ejecutores Coactivos y otros). | E18: 2181.8 | F18: Acción | G18: 12 | H18: 1 | I18: 1 | J18: 1 | K18: 1 | L18: 1 | M18: 1 | N18: 1 | O18: 1 | P18: 1 | Q18: 1 | R18: 1 | S18: 1
C19: 2 | D19: Coordinar con entidades en la ciudad de Lima, sobre cobranza coactiva, lineamientos, registro de embargos sobre bienes de los ejecutados y captura de vehículos a nivel nacional y pago de derechos tributarios conforme el TUPA. | E19: 2181.8 | F19: Acción | G19: 12 | H19: 1 | I19: 1 | J19: 1 | K19: 1 | L19: 1 | M19: 1 | N19: 1 | O19: 1 | P19: 1 | Q19: 1 | R19: 1 | S19: 1
C20: 3 | D20: Librar Exhortos a Ejecutores comisionados de otras Municipalidades para el diligenciamiento de lo encomendado, hasta su cobro de la deuda. | E20: 2181.8 | F20: Acción | G20: 12 | H20: 1 | I20: 1 | J20: 1 | K20: 1 | L20: 1 | M20: 1 | N20: 1 | O20: 1 | P20: 1 | Q20: 1 | R20: 1 | S20: 1
A21: 4 | B21: Remate de bienes embargados y/o capturados. | C21: 1 | D21: Publicación de bienes en remate. | E21: 2181.8 | F21: Acción | G21: 12 | H21: 1 | I21: 1 | J21: 1 | K21: 1 | L21: 1 | M21: 1 | N21: 1 | O21: 1 | P21: 1 | Q21: 1 | R21: 1 | S21: 1
C22: 2 | D22: Designación de peritos valorizadores inscritos en el padrón del Poder Judicial. | E22: 2181.8 | F22: Acción | G22: 12 | H22: 1 | I22: 1 | J22: 1 | K22: 1 | L22: 1 | M22: 1 | N22: 1 | O22: 1 | P22: 1 | Q22: 1 | R22: 1 | S22: 1
C23: 3 | D23: Diligencias de remate de bienes embargados. | E23: 2181.8 | F23: Acción | G23: 12 | H23: 1 | I23: 1 | J23: 1 | K23: 1 | L23: 1 | M23: 1 | N23: 1 | O23: 1 | P23: 1 | Q23: 1 | R23: 1 | S23: 1

Sheet Anexo 10
A1: ANEXO 10
A2: FORMATO 01
A3: PLAN OPERATIVO INSTITUCIONAL 2011
A5: Institución | C5: : MUNICIPALIDAD PROVINCIAL DE HUAYLAS - CARAZ
A6: Gerencia y/u Oficina | C6: : Gerencia de Administración y Finanzas
A7: Unidad Orgánica | C7: : | O7: COSTO TOTAL: | P7: =SUM(E13:E23) -> 12000
A8: Objetivo General | C8: : Administrar los sistemas de abastecimientos, tesorería, contabilidad, informática y el potencial humano para el normal funcionamiento institucional.
A10: OBJETIVOS ESPECÍFICOS | C10: ACTIVIDADES | E10: COSTO S/. | F10: Meta Física | H10: CRONOGRAMA DE ACTIVIDADES
F11: Unidad de Medida | G11: Can- tidad | H11: I TRIMESTRE | K11: II TRIMESTRE | N11: III TRIMESTRE | Q11: IV TRIMESTRE
H12: Ene | I12: Feb | J12: Mar | K12: Abr | L12: May | M12: Jun | N12: Jul | O12: Ago | P12: Set | Q12: Oct | R12: Nov | S12: Dic
A13: 1 | B13: Proveer de manera eficiente, eficaz y transparente los recursos económicos, financieros y humanos a todas las Unidades Orgánicas de la Municipalidad, para el cumplimiento de las metas establecidas. | C13: 1 | D13: Evaluar la recaudación, captación y obtención de ingresos y de la utilización de los recursos financieros. | E13: 480 | F13: Documento | G13: 12 | H13: 1 | I13: 1 | J13: 1 | K13: 1 | L13: 1 | M13: 1 | N13: 1 | O13: 1 | P13: 1 | Q13: 1 | R13: 1 | S13: 1
C14: 2 | D14: Aprobación de expedientes y bases administrativas de procesos de Selección de menor cuantía. | E14: 1200 | F14: Documento | G14: 3000 | I14: 250 | J14: 250 | K14: 250 | L14: 250 | M14: 250 | N14: 250 | O14: 250 | P14: 250 | Q14: 300 | R14: 350 | S14: 350
C15: 3 | D15: Recepción y tramitación de documentos, mediante oficios, memorándum, Informes y proveídos. | E15: 1500 | F15: Expediente | G15: 9000 | I15: 50 | J15: 900 | K15: 900 | L15: 900 | M15: 900 | N15: 900 | O15: 900 | P15: 900 | Q15: 900 | R15: 900 | S15: 850
C16: 4 | D16: Recepción, remisión y archivo de las declaraciones juradas de los obligados a su presentación. | E16: 600 | F16: Documento | G16: 45 | H16: 20 | I16: 20 | J16: 5
C17: 5 | D17: Revisión y aprobación de documentos de pago de obligaciones en cheques y abonos en cuenta. | E17: 2000 | F17: Documento | G17: 12000 | H17: 1000 | I17: 1000 | J17: 1000 | K17: 1000 | L17: 1000 | M17: 1000 | N17: 1000 | O17: 1000 | P17: 1000 | Q17: 1000 | R17: 1000 | S17: 1000
C18: 6 | D18: Evaluación y autorización para la atención de los requerimientos (necesidades de las Unidades Orgánicas). | E18: 2000 | F18: Documento | G18: 13000 | H18: 100 | I18: 150 | J18: 1300 | K18: 1300 | L18: 1300 | M18: 1300 | N18: 1300 | O18: 1300 | P18: 1300 | Q18: 1300 | R18: 1350 | S18: 1000
C19: 7 | D19: Profesionalización progresiva para la atención de los requerimientos (necesidades de las unidades orgánicas). | E19: 1500 | F19: Acción | G19: 4 | J19: 1 | M19: 1 | P19: 1 | R19: 1
C20: 8 | D20: Incorporación de tecnología innovadora que facilite y viabilice la toma de decisiones. | E20: 2420 | F20: Acción | G20: 6 | J20: 1 | K20: 1 | L20: 1 | O20: 1 | P20: 1 | Q20: 1
A21: 2 | B21: Contribuir al fortalecimiento de capacidades, a fin de coadyuvar el cumplimiento de los objetivos institucionales. | C21: 1 | D21: Coordinar para mejorar la captación tributaria disminuyendo el Índice de morosidad. | E21: 100 | F21: Acción | G21: 12 | H21: 1 | I21: 1 | J21: 1 | K21: 1 | L21: 1 | M21: 1 | N21: 1 | O21: 1 | P21: 1 | Q21: 1 | R21: 1 | S21: 1
C22: 2 | D22: Brindar información para la elaboración del presupuesto institucional de apertura. | E22: 100 | F22: Acción | G22: 12 | H22: 1 | I22: 1 | J22: 1 | K22: 1 | L22: 1 | M22: 1 | N22: 1 | O22: 1 | P22: 1 | Q22: 1 | R22: 1 | S22: 1
C23: 3 | D23: Diseñar mecanismos para fortalecer el control interno institucional. | E23: 100 | F23: Acción | G23: 12 | H23: 1 | I23: 1 | J23: 1 | K23: 1 | L23: 1 | M23: 1 | N23: 1 | O23: 1 | P23: 1 | Q23: 1 | R23: 1 | S23: 1
A24: 3 | B24: Promover la mejora de las relaciones humanas a través de la celebración del Día del Trabajo, Día del Trabajador Municipal y de la Navidad. | C24: 1 | D24: Celebración del Día del Trabajo. | E24: 10000 | F24: Celebración | G24: 1 | L24: 1
C25: 2 | D25: Celebración del Día del Trabajador Municipal. | E25: 16000 | F25: Celebración | G25: 1 | R25: 1
C26: 3 | D26: Celebración de la Navidad. | E26: 16000 | F26: Celebración | G26: 1 | S26: 1

Sheet Anexo 11
A1: ANEXO 11
A2: FORMATO 01
A3: PLAN OPERATIVO INSTITUCIONAL 2011
A5: Institución | C5: : MUNICIPALIDAD PROVINCIAL DE HUAYLAS - CARAZ
A6: Gerencia y/u Oficina | C6: : Gerencia de Administración y Finanzas
A7: Unidad Orgánica | C7: : Unidad de Recursos Humanos | O7: COSTO TOTAL: | P7: =SUM(E13:E35) -> 3600
A8: Objetivo General | C8: : Brindar atención de calidad al personal de la Municipalidad Provincial de Huaylas, garantizando sus derechos y propiciando su desarrollo integral.
A10: OBJETIVOS ESPECÍFICOS | C10: ACTIVIDADES | E10: COSTO S/. | F10: Meta Física | H10: CRONOGRAMA DE ACTIVIDADES
F11: Unidad de Medida | G11: Can- tidad | H11: I TRIMESTRE | K11: II TRIMESTRE | N11: III TRIMESTRE | Q11: IV TRIMESTRE
H12: Ene | I12: Feb | J12: Mar | K12: Abr | L12: May | M12: Jun | N12: Jul | O12: Ago | P12: Set | Q12: Oct | R12: Nov | S12: Dic
A13: 1 | B13: Garantizar al personal el pago oportuno en sus haberes | C13: 1 | D13: Elaboración de informes técnicos en materia de personal, remuneraciones y otros. | E13: 200 | F13: Documento | G13: 580 | H13: 45 | I13: 50 | J13: 50 | K13: 40 | L13: 50 | M13: 45 | N13: 50 | O13: 50 | P13: 50 | Q13: 50 | R13: 50 | S13: 50
C14: 2 | D14: Elaboración de planillas normales, aguinaldo, escolaridad y las boletas de pago del personal nombrado, contratado, obreros permanentes y contratados así como de los pensionistas. | E14: 350 | F14: Documento | G14: 1200 | H14: 100 | I14: 100 | J14: 100 | K14: 100 | L14: 100 | M14: 100 | N14: 100 | O14: 100 | P14: 100 | Q14: 100 | R14: 100 | S14: 100
C15: 3 | D15: Elaboración de planillas de AFPs y PDT. | E15: 50 | F15: Documento | G15: 180 | H15: 15 | I15: 15 | J15: 15 | K15: 15 | L15: 15 | M15: 15 | N15: 15 | O15: 15 | P15: 15 | Q15: 15 | R15: 15 | S15: 15
C16: 4 | D16: Elaboración de las planillas de dietas de los regidores. | E16: 20 | F16: Documento | G16: 12 | H16: 1 | I16: 1 | J16: 1 | K16: 1 | L16: 1 | M16: 1 | N16: 1 | O16: 1 | P16: 1 | Q16: 1 | R16: 1 | S16: 1
C17: 5 | D17: Procesamiento de las planillas de préstamos del personal con las diferentes instituciones financieras. | E17: 50 | F17: Documento | G17: 180 | H17: 15 | I17: 15 | J17: 15 | K17: 15 | L17: 15 | M17: 15 | N17: 15 | O17: 15 | P17: 15 | Q17: 15 | R17: 15 | S17: 15
C18: 6 | D18: Procesamiento y elaboración de la planilla de descuentos judiciales. | E18: 20 | F18: Documento | G18: 72 | H18: 6 | I18: 6 | J18: 6 | K18: 6 | L18: 6 | M18: 6 | N18: 6 | O18: 6 | P18: 6 | Q18: 6 | R18: 6 | S18: 6
C19: 7 | D19: Atención a las observaciones presentadas por las AFPs, sobre los pagos de los trabajadores de esta entidad. | E19: 30 | F19: Documento | G19: 60 | H19: 10 | J19: 10 | L19: 4 | M19: 6 | O19: 10 | P19: 5 | Q19: 5 | S19: 10
A20: 2 | B20: Mantener actualizado el Escalafón del personal así como llevar el control de uso de vacaciones y la asistencia y permanencia del personal. | C20: 1 | D20: Control de uso físico de vacaciones del personal de la Municipalidad. | E20: 40 | F20: Acción | G20: 12 | H20: 1 | I20: 1 | J20: 1 | K20: 1 | L20: 1 | M20: 1 | N20: 1 | O20: 1 | P20: 1 | Q20: 1 | R20: 1 | S20: 1
C21: 2 | D21: Elaboración de Resoluciones de la Jefatura sobre acciones de personal. | E21: 50 | F21: Documento | G21: 60 | H21: 5 | I21: 5 | J21: 5 | K21: 5 | L21: 5 | M21: 5 | N21: 5 | O21: 5 | P21: 5 | Q21: 5 | R21: 5 | S21: 5
C22: 3 | D22: Actualización de los legajos de escalafón del personal nombrado, contratado, obreros y pensionistas. | E22: 600 | F22: Expediente | G22: 240 | H22: 40 | J22: 20 | K22: 20 | L22: 20 | N22: 40 | O22: 20 | P22: 20 | Q22: 20 | R22: 20 | S22: 20
C23: 4 | D23: Controlar las tarjetas de asistencia y permanencia del personal nombrado, contratado y obreros. | E23: 60 | F23: Acción | G23: 48 | H23: 4 | I23: 4 | J23: 4 | K23: 4 | L23: 4 | M23: 4 | N23: 4 | O23: 4 | P23: 4 | Q23: 4 | R23: 4 | S23: 4
A24: 3 | B24: Garantizar el otorgamiento de sus derechos y cumplimiento de deberes, obligaciones y sanciones del trabajador. | C24: 1 | D24: Elaboración del rol anual de vacaciones del personal nombrado, contratado y obreros. | E24: 20 | F24: Documento | G24: 1 | R24: 1
C25: 2 | D25: Elaboración de las planillas para el pago por subsidio por enfermedad, lactancia, luto gastos por sepelio. | E25: 35 | F25: Documento | G25: 12 | H25: 1 | I25: 1 | J25: 1 | K25: 1 | L25: 1 | M25: 1 | N25: 1 | O25: 1 | P25: 1 | Q25: 1 | R25: 1 | S25: 1
C26: 3 | D26: Consolidar las fichas de actualización de datos, declaración jurada de nepotismo, etc. | E26: 35 | F26: Documento | G26: 216 | H26: 72 | L26: 18 | M26: 18 | N26: 36 | P26: 18 | Q26: 18 | R26: 18 | S26: 18
C27: 4 | D27: Aplicar sanciones al personal por medidas disciplinarias. | E27: 60 | F27: Expediente | G27: 60 | H27: 5 | I27: 5 | J27: 5 | K27: 5 | L27: 5 | M27: 5 | N27: 5 | O27: 5 | P27: 5 | Q27: 5 | R27: 5 | S27: 5
A28: 4 | B28: Fomentar el desarrollo personal e institucional con el desarrollo de capacidades y aptitudes. | C28: 1 | D28: Talleres de bienestar social (autoestima, liderazgo, trabajo en equipo, motivación, ética del servidor público, familia, atención de casos familiares). | E28: 250 | F28: Evento | G28: 2 | K28: 1 | N28: 1
C29: 2 | D29: Campaña integral de salud (despistaje de diabetes, hipertensión arterial, tamisaje de cáncer de cuello uterino y mamas, visitas hospitalarias, visitas domiciliarias y consulta odontológica). | E29: 250 | F29: Evento | G29: 2 | L29: 1 | Q29: 1
C30: 3 | D30: Conmemoraciones especiales por el Día del Obrero, Día del Trabajador Municipal, Fiestas Patrias, Aniversario de la Provincia, Día de la Madre, día del Padre y Navidad. | E30: 250 | F30: Evento | G30: 6 | I30: 1 | K30: 1 | L30: 1 | N30: 1 | R30: 1 | S30: 1
C31: 4 | D31: Capacitación sobre acciones de personal, remuneraciones y otros. | E31: 400 | F31: Evento | G31: 6 | H31: 1 | J31: 1 | L31: 1 | N31: 1 | P31: 1 | R31: 1
A32: 5 | B32: Asegurar la situación laboral del personal contratado por CAS y su control respectivo. | C32: 1 | D32: Elaboración de Planillas del personal de CAS. | E32: 250 | F32: Documento | G32: 60 | H32: 5 | I32: 5 | J32: 5 | K32: 5 | L32: 5 | M32: 5 | N32: 5 | O32: 5 | P32: 5 | Q32: 5 | R32: 5 | S32: 5
C33: 2 | D33: Control del Personal de CAS | E33: 50 | F33: Acción | G33: 12 | H33: 1 | I33: 1 | J33: 1 | K33: 1 | L33: 1 | M33: 1 | N33: 1 | O33: 1 | P33: 1 | Q33: 1 | R33: 1 | S33: 1
C34: 3 | D34: Control de las tarjetas de asistencia y permanencia del personal de CAS. | E34: 80 | F34: Acción | G34: 48 | H34: 4 | I34: 4 | J34: 4 | K34: 4 | L34: 4 | M34: 4 | N34: 4 | O34: 4 | P34: 4 | Q34: 4 | R34: 4 | S34: 4
C35: 4 | D35: Elaboración de los contratos del personal de CAS. | E35: 450 | F35: Documento | G35: 1200 | H35: 100 | I35: 100 | J35: 100 | K35: 100 | L35: 100 | M35: 100 | N35: 100 | O35: 100 | P35: 100 | Q35: 100 | R35: 100 | S35: 100
A36: 6 | B36: Efectivizar el pago de personal CAS para el cumplimiento de actividades. | C36: 1 | D36: Elaboración de planillas y realizar el pago al personal de CAS - Administrativos. | E36: 397283 | F36: Planilla | G36: 12 | H36: 1 | I36: 1 | J36: 1 | K36: 1 | L36: 1 | M36: 1 | N36: 1 | O36: 1 | P36: 1 | Q36: 1 | R36: 1 | S36: 1
C37: 2 | D37: Elaboración de planillas y realizar el pago al personal de CAS - Serenazgo. | E37: 193440 | F37: Planilla | G37: 12 | H37: 1 | I37: 1 | J37: 1 | K37: 1 | L37: 1 | M37: 1 | N37: 1 | O37: 1 | P37: 1 | Q37: 1 | R37: 1 | S37: 1
C38: 3 | D38: Elaboración de planillas y realizar el pago al personal de CAS - Limpieza Pública. | E38: 150240 | F38: Planilla | G38: 12 | H38: 1 | I38: 1 | J38: 1 | K38: 1 | L38: 1 | M38: 1 | N38: 1 | O38: 1 | P38: 1 | Q38: 1 | R38: 1 | S38: 1

Sheet Anexo 12
A1: ANEXO 12
A2: FORMATO 01
A3: PLAN OPERATIVO INSTITUCIONAL 2011
A5: Institución | C5: : MUNICIPALIDAD PROVINCIAL DE HUAYLAS - CARAZ
A6: Gerencia y/u Oficina | C6: : Gerencia de Administración y Finanzas
A7: Unidad Orgánica | C7: : Unidad de Logística | O7: COSTO TOTAL: | P7: =SUM(E13:E28) -> 3600
A8: Objetivo General | C8: : Atender con bienes y servicios a las Unidades Orgánicas con eficiencia, eficacia y transaparencia para el cumplimiento de los objetivos institucionales.
A10: OBJETIVOS ESPECÍFICOS | C10: ACTIVIDADES | E10: COSTO S/. | F10: Meta Física | H10: CRONOGRAMA DE ACTIVIDADES
F11: Unidad de Medida | G11: Can- tidad | H11: I TRIMESTRE | K11: II TRIMESTRE | N11: III TRIMESTRE | Q11: IV TRIMESTRE
H12: Ene | I12: Feb | J12: Mar | K12: Abr | L12: May | M12: Jun | N12: Jul | O12: Ago | P12: Set | Q12: Oct | R12: Nov | S12: Dic
A13: 1 | B13: Formular y ejecutar el Plan Anual de Contrataciones para el año 2011, así como ejecutar los diversos procesos de selección para la contratación de bienes, servicios y obras. | C13: 1 | D13: Consolidar el cuadro de necesidades de las diferentes unidades. | E13: 300 | F13: Documento | G13: 1 | H13: 1
C14: 2 | D14: Emisión de órdenes de servicios. | E14: 500 | F14: Documento | G14: 2750 | I14: 250 | J14: 250 | K14: 250 | L14: 250 | M14: 250 | N14: 250 | O14: 250 | P14: 250 | Q14: 250 | R14: 250 | S14: 250
C15: 3 | D15: Emisión de órdenes de compra. | E15: 400 | F15: Documento | G15: 1650 | I15: 150 | J15: 150 | K15: 150 | L15: 150 | M15: 150 | N15: 150 | O15: 150 | P15: 150 | Q15: 150 | R15: 150 | S15: 150
C16: 4 | D16: Elaboración de informes para los diversos procesos de selección: LP, CP, ADP, ADS, AMC. | E16: 150 | F16: Informe | G16: 176 | I16: 16 | J16: 16 | K16: 16 | L16: 16 | M16: 16 | N16: 16 | O16: 16 | P16: 16 | Q16: 16 | R16: 16 | S16: 16
C17: 5 | D17: Elaboración de cuadro comparativos. | E17: 300 | F17: Documento | G17: 4400 | I17: 400 | J17: 400 | K17: 400 | L17: 400 | M17: 400 | N17: 400 | O17: 400 | P17: 400 | Q17: 400 | R17: 400 | S17: 400
C18: 6 | D18: Elaboración de bases de proceso de selección según corresponda. | E18: 150 | F18: Documento | G18: 55 | I18: 5 | J18: 5 | K18: 5 | L18: 5 | M18: 5 | N18: 5 | O18: 5 | P18: 5 | Q18: 5 | R18: 5 | S18: 5
C19: 7 | D19: Elaboración de contratos diversos. | E19: 300 | F19: Documento | G19: 550 | I19: 50 | J19: 50 | K19: 50 | L19: 50 | M19: 50 | N19: 50 | O19: 50 | P19: 50 | Q19: 50 | R19: 50 | S19: 50
C20: 8 | D20: Adquisición bienes y servicios. | E20: 100 | F20: Acción | G20: 12 | H20: 1 | I20: 1 | J20: 1 | K20: 1 | L20: 1 | M20: 1 | N20: 1 | O20: 1 | P20: 1 | Q20: 1 | R20: 1 | S20: 1
C21: 9 | D21: Cotización de bienes y servicios. | E21: 300 | F21: Documento | G21: 3850 | I21: 350 | J21: 350 | K21: 350 | L21: 350 | M21: 350 | N21: 350 | O21: 350 | P21: 350 | Q21: 350 | R21: 350 | S21: 350
A22: 2 | B22: Fortalecer la gestión administrativa. | C22: 1 | D22: Confrontación de adquisiciones del COA. | E22: 100 | F22: Acción | G22: 12 | H22: 1 | I22: 1 | J22: 1 | K22: 1 | L22: 1 | M22: 1 | N22: 1 | O22: 1 | P22: 1 | Q22: 1 | R22: 1 | S22: 1
C23: 2 | D23: Control y recepción de documentos varios. | E23: 150 | F23: Documento | G23: 600 | H23: 50 | I23: 50 | J23: 50 | K23: 50 | L23: 50 | M23: 50 | N23: 50 | O23: 50 | P23: 50 | Q23: 50 | R23: 50 | S23: 50
C24: 3 | D24: Elaboración de documentos diversos según requerimiento de las Gerencias y Unidades. | E24: 150 | F24: Documento | G24: 565 | H24: 15 | I24: 50 | J24: 50 | K24: 50 | L24: 50 | M24: 50 | N24: 50 | O24: 50 | P24: 50 | Q24: 50 | R24: 50 | S24: 50
C25: 4 | D25: Evaluación y monitoreo de la Unidad. | E25: 100 | F25: Acción | G25: 12 | H25: 1 | I25: 1 | J25: 1 | K25: 1 | L25: 1 | M25: 1 | N25: 1 | O25: 1 | P25: 1 | Q25: 1 | R25: 1 | S25: 1
A26: 3 | B26: Garantizar la limpieza, aseo y conservación óptima de los diversos ambientes y/u oficinas de la institución. | C26: 1 | D26: Limpieza de las diversas oficinas del Palacio Municipal. | E26: 200 | F26: Acción | G26: 12 | H26: 1 | I26: 1 | J26: 1 | K26: 1 | L26: 1 | M26: 1 | N26: 1 | O26: 1 | P26: 1 | Q26: 1 | R26: 1 | S26: 1
C27: 2 | D27: Limpieza de las diversas oficinas de los locales según convenio (CUC-Parroquia). | E27: 200 | F27: Acción | G27: 12 | H27: 1 | I27: 1 | J27: 1 | K27: 1 | L27: 1 | M27: 1 | N27: 1 | O27: 1 | P27: 1 | Q27: 1 | R27: 1 | S27: 1
C28: 3 | D28: Limpieza de las diversas oficinas de los locales alquilados. | E28: 200 | F28: Acción | G28: 12 | H28: 1 | I28: 1 | J28: 1 | K28: 1 | L28: 1 | M28: 1 | N28: 1 | O28: 1 | P28: 1 | Q28: 1 | R28: 1 | S28: 1

Sheet Anexo 13
A1: ANEXO 13
A2: FORMATO 01
A3: PLAN OPERATIVO INSTITUCIONAL 2011
A5: Institución | C5: : MUNICIPALIDAD PROVINCIAL DE HUAYLAS - CARAZ
A6: Gerencia y/u Oficina | C6: : Gerencia de Administración y Finanzas
A7: Unidad Orgánica | C7: : Unidad de Tesorería | O7: COSTO TOTAL: | P7: =SUM(E13:E28) -> 6000
A8: Objetivo General | C8: : Velar por la Correcta Administración de los fondos y valores económicos de la Municipalidad.
A10: OBJETIVOS ESPECÍFICOS | C10: ACTIVIDADES | E10: COSTO S/. | F10: Meta Física | H10: CRONOGRAMA DE ACTIVIDADES
F11: Unidad de Medida | G11: Can- tidad | H11: I TRIMESTRE | K11: II TRIMESTRE | N11: III TRIMESTRE | Q11: IV TRIMESTRE
H12: Ene | I12: Feb | J12: Mar | K12: Abr | L12: May | M12: Jun | N12: Jul | O12: Ago | P12: Set | Q12: Oct | R12: Nov | S12: Dic
A13: 1 | B13: Administrar los fondos y valores económicos - financieros de la Municipalidad. | C13: 1 | D13: Realizar la cobranza de todos los tributos, impuestos y arbitrios, etc. Así como informar diariamente, previo proceso en el SIAF, los fondos recaudados y registrados de acuerdo a su naturaleza; es decir por fuente de financiamiento y por rubro. | E13: 1000 | F13: Documento | G13: 250 | H13: 20 | I13: 20 | J13: 21 | K13: 21 | L13: 21 | M13: 21 | N13: 21 | O13: 21 | P13: 21 | Q13: 21 | R13: 21 | S13: 21
C14: 2 | D14: Emisión de diferentes documentos de acuerdo a las actividades realizadas y registro de expedientes. | E14: 400 | F14: Documento | G14: 120 | H14: 10 | I14: 10 | J14: 10 | K14: 10 | L14: 10 | M14: 10 | N14: 10 | O14: 10 | P14: 10 | Q14: 10 | R14: 10 | S14: 10
C15: 3 | D15: Elaboración de comprobantes de pago por compromisos adquiridos en su totalidad procesando en el SIAF. | E15: 1300 | F15: Expediente | G15: 6000 | H15: 500 | I15: 500 | J15: 500 | K15: 500 | L15: 500 | M15: 500 | N15: 500 | O15: 500 | P15: 500 | Q15: 500 | R15: 500 | S15: 500
C16: 4 | D16: Emisión de cheques para pago por compromisos adquiridos en su totalidad. | E16: 1300 | F16: Documento | G16: 6000 | H16: 500 | I16: 500 | J16: 500 | K16: 500 | L16: 500 | M16: 500 | N16: 500 | O16: 500 | P16: 500 | Q16: 500 | R16: 500 | S16: 500
C17: 5 | D17: Control y custodia de cartas fianzas, pólizas de caución, cheques y otros valores de propiedad de la institución que garanticen el fiel cumplimiento de los contratos y otros derechos a favor de la municipalidad. | E17: 100 | F17: Documento | G17: 48 | H17: 4 | I17: 4 | J17: 4 | K17: 4 | L17: 4 | M17: 4 | N17: 4 | O17: 4 | P17: 4 | Q17: 4 | R17: 4 | S17: 4
C18: 6 | D18: Administración de los ingresos propios y demás cuentas corrientes para su programación de los pagos de compromisos adquiridos, indicando la fuente de financiamiento. | E18: 300 | F18: Expediente | G18: 250 | H18: 20 | I18: 20 | J18: 21 | K18: 21 | L18: 21 | M18: 21 | N18: 21 | O18: 21 | P18: 21 | Q18: 21 | R18: 21 | S18: 21
C19: 7 | D19: Control de saldos de las cuentas corrientes en forma diaria emitiendo la posición de bancos para dar a conocer a la superioridad. | E19: 300 | F19: Documento | G19: 250 | H19: 20 | I19: 20 | J19: 21 | K19: 21 | L19: 21 | M19: 21 | N19: 21 | O19: 21 | P19: 21 | Q19: 21 | R19: 21 | S19: 21
C20: 8 | D20: Control, Revisión y evaluación del correcto manejo del fondo fijo otorgado a diferentes áreas de la municipalidad. | E20: 100 | F20: Expediente | G20: 12 | H20: 1 | I20: 1 | J20: 1 | K20: 1 | L20: 1 | M20: 1 | N20: 1 | O20: 1 | P20: 1 | Q20: 1 | R20: 1 | S20: 1
C21: 9 | D21: Emitir informes a las diferentes oficinas sobre ingresos recibidos diarios y mensuales verificando la cobranza realizada por caja. | E21: 100 | F21: Expediente | G21: 12 | H21: 1 | I21: 1 | J21: 1 | K21: 1 | L21: 1 | M21: 1 | N21: 1 | O21: 1 | P21: 1 | Q21: 1 | R21: 1 | S21: 1
